BEGIN:VCALENDAR
VERSION:2.0
PRODID:-//Pinehurst Elementary School - ECPv6.15.20//NONSGML v1.0//EN
CALSCALE:GREGORIAN
METHOD:PUBLISH
X-WR-CALNAME:Pinehurst Elementary School
X-ORIGINAL-URL:https://www.pinehurst.k12.or.us
X-WR-CALDESC:Events for Pinehurst Elementary School
REFRESH-INTERVAL;VALUE=DURATION:PT1H
X-Robots-Tag:noindex
X-PUBLISHED-TTL:PT1H
BEGIN:VTIMEZONE
TZID:America/Los_Angeles
BEGIN:DAYLIGHT
TZOFFSETFROM:-0800
TZOFFSETTO:-0700
TZNAME:PDT
DTSTART:20240310T100000
END:DAYLIGHT
BEGIN:STANDARD
TZOFFSETFROM:-0700
TZOFFSETTO:-0800
TZNAME:PST
DTSTART:20241103T090000
END:STANDARD
BEGIN:DAYLIGHT
TZOFFSETFROM:-0800
TZOFFSETTO:-0700
TZNAME:PDT
DTSTART:20250309T100000
END:DAYLIGHT
BEGIN:STANDARD
TZOFFSETFROM:-0700
TZOFFSETTO:-0800
TZNAME:PST
DTSTART:20251102T090000
END:STANDARD
BEGIN:DAYLIGHT
TZOFFSETFROM:-0800
TZOFFSETTO:-0700
TZNAME:PDT
DTSTART:20260308T100000
END:DAYLIGHT
BEGIN:STANDARD
TZOFFSETFROM:-0700
TZOFFSETTO:-0800
TZNAME:PST
DTSTART:20261101T090000
END:STANDARD
BEGIN:DAYLIGHT
TZOFFSETFROM:-0800
TZOFFSETTO:-0700
TZNAME:PDT
DTSTART:20270314T100000
END:DAYLIGHT
BEGIN:STANDARD
TZOFFSETFROM:-0700
TZOFFSETTO:-0800
TZNAME:PST
DTSTART:20271107T090000
END:STANDARD
END:VTIMEZONE
BEGIN:VEVENT
DTSTART;TZID=America/Los_Angeles:20260423T160000
DTEND;TZID=America/Los_Angeles:20260423T190000
DTSTAMP:20260424T135004
CREATED:20260109T001427Z
LAST-MODIFIED:20260421T202100Z
UID:1272-1776960000-1776970800@www.pinehurst.k12.or.us
SUMMARY:Pinehurst School Board Meeting
DESCRIPTION:  \n \nAGENDA – Policy work session 4-23-26
URL:https://www.pinehurst.k12.or.us/event/pinehurst-school-board-meeting/
LOCATION:Pinehurst School Annex\, 15337 Highway 66\, Ashland\, OR\, 97520
CATEGORIES:School Governance
ATTACH;FMTTYPE=image/png:https://www.pinehurst.k12.or.us/wp-content/uploads/2026/01/Pinehurst-School-Board-Meeting.png
END:VEVENT
BEGIN:VEVENT
DTSTART;TZID=America/Los_Angeles:20260319T180000
DTEND;TZID=America/Los_Angeles:20260319T193000
DTSTAMP:20260424T135004
CREATED:20260129T191137Z
LAST-MODIFIED:20260310T163800Z
UID:1311-1773943200-1773948600@www.pinehurst.k12.or.us
SUMMARY:Literacy Night
DESCRIPTION:Thursday\, March 19 6-7:30pm at Pinehurst School.
URL:https://www.pinehurst.k12.or.us/event/literacy-night/
LOCATION:Pinehurst School Annex\, 15337 Highway 66\, Ashland\, OR\, 97520
CATEGORIES:For Students
ATTACH;FMTTYPE=image/png:https://www.pinehurst.k12.or.us/wp-content/uploads/2026/01/Literacy-Night-Thursday-March-19.png
END:VEVENT
BEGIN:VEVENT
DTSTART;VALUE=DATE:20260310
DTEND;VALUE=DATE:20260404
DTSTAMP:20260424T135004
CREATED:20260310T162657Z
LAST-MODIFIED:20260318T061219Z
UID:1352-1773100800-1775260799@www.pinehurst.k12.or.us
SUMMARY:Budget Committee Opening
DESCRIPTION:  \n  \n  \n  \n  \n  \nPinehurst School is currently accepting applications for one (1) opening on the Pinehurst School Budget Committee . This is a two-year term for any approved applicant. \n  \nMeeting Dates: \n\nInitial Meeting: Friday\, May 15th\, 2026\, at 4:00 PM in the Rowlett Annex at Pinehurst School (estimated 2-hour meeting).\nSecond Meeting (if needed): Friday\, May 22nd\, 2026\, at 4:00 PM in the Rowlett Annex at Pinehurst School (estimated 2-hour meeting).\n\nEligibility:\nApplicants must be registered voters residing within the Pinehurst School District boundaries. All eligible individuals are encouraged to apply! \nPlease find the application form attached. Completed applications and any questions can be submitted through any of the following methods: \n\nEmail: john@pinehurst.k12.or.us\nMail:\nPinehurst School\n15337 Hwy 66\nAshland\, OR 97520\nIn Person: Drop it off at the school office (please call 541-482-1910 to inform the office you will be stopping by).\n\n  \nPlease have all applications delivered to Pinehurst School by Friday\, April 3\, 2026\, prior to the Pinehurst School Board meeting on Wednesday\, April 8\, 2026\, @ 4pm. \nWe greatly appreciate your interest and commitment to supporting our school and look forward to receiving your application. \n \nBudget Committee Application
URL:https://www.pinehurst.k12.or.us/event/1352/
LOCATION:OR
CATEGORIES:For Families,For the Community,Pinehurst School Foundation,School Governance,Special Events
ATTACH;FMTTYPE=image/jpeg:https://www.pinehurst.k12.or.us/wp-content/uploads/2026/03/Budget-image.jpg
END:VEVENT
BEGIN:VEVENT
DTSTART;TZID=America/Los_Angeles:20251206T100000
DTEND;TZID=America/Los_Angeles:20251206T150000
DTSTAMP:20260424T135004
CREATED:20251113T211712Z
LAST-MODIFIED:20251113T211712Z
UID:1228-1765015200-1765033200@www.pinehurst.k12.or.us
SUMMARY:Winterfest 2025!
DESCRIPTION:Download a .pdf of the flyer here: Winterfest2025-Flyer
URL:https://www.pinehurst.k12.or.us/event/winterfest-2025/
LOCATION:Greensprings Inn Yurt\, 11470 Highway 66\, Ashland\, OR\, 97520\, United States
CATEGORIES:District Calendar,For the Community,Holidays,Pinehurst School Foundation
ORGANIZER;CN="Pinehurst School Foundation":MAILTO:pinehurstfoundation@gmail.com
END:VEVENT
BEGIN:VEVENT
DTSTART;VALUE=DATE:20251031
DTEND;VALUE=DATE:20251101
DTSTAMP:20260424T135004
CREATED:20250821T181130Z
LAST-MODIFIED:20250821T181130Z
UID:226-1761868800-1761955199@www.pinehurst.k12.or.us
SUMMARY:Parent-Teacher Conferences
DESCRIPTION:
URL:https://www.pinehurst.k12.or.us/event/parent-teacher-conferences/
LOCATION:Pinehurst Elementary School\, 15337 Highway 66\, Ashland\, OR\, 97520-9399\, United States
CATEGORIES:District Calendar
ATTACH;FMTTYPE=image/png:https://www.pinehurst.k12.or.us/wp-content/uploads/2025/06/logo-Pinehurst-Elementary-District-94-no-bkgrd.png
END:VEVENT
BEGIN:VEVENT
DTSTART;VALUE=DATE:20251023
DTEND;VALUE=DATE:20251024
DTSTAMP:20260424T135004
CREATED:20250821T180942Z
LAST-MODIFIED:20250821T181010Z
UID:224-1761177600-1761263999@www.pinehurst.k12.or.us
SUMMARY:Grading Day - Noon Dismissal
DESCRIPTION:
URL:https://www.pinehurst.k12.or.us/event/grading-day-noon-dismissal/
LOCATION:Pinehurst Elementary School\, 15337 Highway 66\, Ashland\, OR\, 97520-9399\, United States
CATEGORIES:District Calendar
ATTACH;FMTTYPE=image/png:https://www.pinehurst.k12.or.us/wp-content/uploads/2025/06/logo-Pinehurst-Elementary-District-94-no-bkgrd.png
END:VEVENT
BEGIN:VEVENT
DTSTART;TZID=America/Los_Angeles:20251013T080000
DTEND;TZID=America/Los_Angeles:20251013T170000
DTSTAMP:20260424T135004
CREATED:20250821T180702Z
LAST-MODIFIED:20250821T180831Z
UID:222-1760342400-1760374800@www.pinehurst.k12.or.us
SUMMARY:School Holiday - Indigenous People's Day
DESCRIPTION:
URL:https://www.pinehurst.k12.or.us/event/first-day-of-school-noon-dismissal/
LOCATION:Pinehurst Elementary School\, 15337 Highway 66\, Ashland\, OR\, 97520-9399\, United States
CATEGORIES:School Holiday
ATTACH;FMTTYPE=image/png:https://www.pinehurst.k12.or.us/wp-content/uploads/2025/06/logo-Pinehurst-Elementary-District-94-no-bkgrd.png
END:VEVENT
BEGIN:VEVENT
DTSTART;TZID=America/Los_Angeles:20250912T150000
DTEND;TZID=America/Los_Angeles:20250912T170000
DTSTAMP:20260424T135004
CREATED:20250911T225820Z
LAST-MODIFIED:20250911T232522Z
UID:382-1757689200-1757696400@www.pinehurst.k12.or.us
SUMMARY:Pinehurst School Foundation Meeting
DESCRIPTION:
URL:https://www.pinehurst.k12.or.us/event/pinehurst-school-foundation/
LOCATION:Pinehurst School Annex\, 15337 Highway 66\, Ashland\, OR\, 97520
CATEGORIES:Pinehurst School Foundation
ATTACH;FMTTYPE=image/jpeg:https://www.pinehurst.k12.or.us/wp-content/uploads/2025/09/bug-Pinehurst-School-Foundation-16x9-1.jpg
ORGANIZER;CN="Pinehurst School Foundation":MAILTO:pinehurstfoundation@gmail.com
END:VEVENT
BEGIN:VEVENT
DTSTART;VALUE=DATE:20250902
DTEND;VALUE=DATE:20250903
DTSTAMP:20260424T135004
CREATED:20250911T224928Z
LAST-MODIFIED:20250911T224928Z
UID:379-1756771200-1756857599@www.pinehurst.k12.or.us
SUMMARY:First Day of School - Early Dismissal
DESCRIPTION:
URL:https://www.pinehurst.k12.or.us/event/first-day-of-school-early-dismissal/
LOCATION:Pinehurst Elementary School\, 15337 Highway 66\, Ashland\, OR\, 97520-9399\, United States
CATEGORIES:District Calendar,School Holiday
ATTACH;FMTTYPE=image/jpeg:https://www.pinehurst.k12.or.us/wp-content/uploads/2025/09/first-day-of-school.jpg
END:VEVENT
BEGIN:VEVENT
DTSTART;VALUE=DATE:20250825
DTEND;VALUE=DATE:20250830
DTSTAMP:20260424T135004
CREATED:20250821T180402Z
LAST-MODIFIED:20250821T180402Z
UID:217-1756080000-1756511999@www.pinehurst.k12.or.us
SUMMARY:Fall In-Service Week
DESCRIPTION:
URL:https://www.pinehurst.k12.or.us/event/fall-in-service-week/
LOCATION:Pinehurst Elementary School\, 15337 Highway 66\, Ashland\, OR\, 97520-9399\, United States
CATEGORIES:District Calendar
ATTACH;FMTTYPE=image/png:https://www.pinehurst.k12.or.us/wp-content/uploads/2025/06/logo-Pinehurst-Elementary-District-94-no-bkgrd.png
END:VEVENT
BEGIN:VEVENT
DTSTART;TZID=America/Los_Angeles:20250823T120000
DTEND;TZID=America/Los_Angeles:20250823T160000
DTSTAMP:20260424T135004
CREATED:20250811T201211Z
LAST-MODIFIED:20250811T202007Z
UID:189-1755950400-1755964800@www.pinehurst.k12.or.us
SUMMARY:All Community BBQ
DESCRIPTION:
URL:https://www.pinehurst.k12.or.us/event/all-community-bbq/
LOCATION:Pinehurst Elementary School\, 15337 Highway 66\, Ashland\, OR\, 97520-9399\, United States
CATEGORIES:For the Community
ATTACH;FMTTYPE=image/jpeg:https://www.pinehurst.k12.or.us/wp-content/uploads/2025/08/bbq-scaled-e1754943591888.jpg
ORGANIZER;CN="Pinehurst School Foundation":MAILTO:pinehurstfoundation@gmail.com
END:VEVENT
BEGIN:VEVENT
DTSTART;TZID=America/Los_Angeles:20250813T120000
DTEND;TZID=America/Los_Angeles:20250813T133000
DTSTAMP:20260424T135004
CREATED:20250812T235832Z
LAST-MODIFIED:20250821T180857Z
UID:199-1755086400-1755091800@www.pinehurst.k12.or.us
SUMMARY:Supplemental Budget Hearing
DESCRIPTION:
URL:https://www.pinehurst.k12.or.us/event/supplemental-budget-hearing/
LOCATION:Pinehurst School Annex\, 15337 Highway 66\, Ashland\, OR\, 97520
CATEGORIES:School Governance
ATTACH;FMTTYPE=image/png:https://www.pinehurst.k12.or.us/wp-content/uploads/2025/08/logo-oregon.gov_.png
ORGANIZER;CN="Oregon Department of Revenue":MAILTO:questions.dor@dor.oregon.gov
END:VEVENT
BEGIN:VEVENT
DTSTART;TZID=America/Los_Angeles:20250707T133000
DTEND;TZID=America/Los_Angeles:20250707T143000
DTSTAMP:20260424T135004
CREATED:20250612T205528Z
LAST-MODIFIED:20250811T201405Z
UID:52-1751895000-1751898600@www.pinehurst.k12.or.us
SUMMARY:2025 Field Day
DESCRIPTION:
URL:https://www.pinehurst.k12.or.us/event/2025-field-day/
LOCATION:Pinehurst Elementary School\, 15337 Highway 66\, Ashland\, OR\, 97520-9399\, United States
CATEGORIES:For Families,For Students
END:VEVENT
END:VCALENDAR